BEGIN:VCALENDAR
VERSION:2.0
PRODID:-//Swiss Innovation Partners AG - ECPv4.9.9//NONSGML v1.0//EN
CALSCALE:GREGORIAN
METHOD:PUBLISH
X-WR-CALNAME:Swiss Innovation Partners AG
X-ORIGINAL-URL:https://swissinnovations.com
X-WR-CALDESC:Events for Swiss Innovation Partners AG
BEGIN:VTIMEZONE
TZID:UTC
BEGIN:STANDARD
TZOFFSETFROM:+0000
TZOFFSETTO:+0000
TZNAME:UTC
DTSTART:20180101T000000
END:STANDARD
END:VTIMEZONE
BEGIN:VEVENT
DTSTART;TZID=UTC:20181120T160000
DTEND;TZID=UTC:20181120T213000
DTSTAMP:20260423T164652
CREATED:20181102T141318Z
LAST-MODIFIED:20181119T115450Z
UID:2017-1542729600-1542749400@swissinnovations.com
SUMMARY:International Blockchain Community Pitch Night
DESCRIPTION:SUMMARY\nJoin the 4th SWISS INNOVATION International Blockchain Community Pitch Night for private investors and business angels to meet promising international companies. Our last events have been highly recognised by both presenting companies as well as investors. \nADMISSION\nThis is a pubic event. \nTo register please use:  https://www.eventbrite.com/e/blockchain-community-pitch-night-with-international-company-presenstations-tickets-52150308978 \n\n\n\nPURPOSE OF THIS EVENT\nBlockchain is going to radically change the way we make business. One of the first sectors to undergo such changes is banking and insurance. It also has a deep impact on the venture capital industry\, how funds are raised and how securities are managed and traded. \nWe would like to provide any person independent whether novice or expert valuable insights into blockchain driven industry advances and what kind of approaches are are made by different companies. This can create innovative impulses to other industry players. \n\n\n\n\n\n\nBut most importantly the events provides an opportunity to stay in the loop of a new technology which is advancing in an incredible speed\, faster than then Internet ever before. The hype of phantasy ICO’s with inexperienced founders having an idea on paper is definitely over. Now we are quickly progressing to sustainability. \n\n\n\nWHO SHOULD ATTEND\nStartups and people from all areas of tech interested in start-up\, scale-up\, disruption\, business transformation\, blockchain\, cryptocurrencies and more\, in particular \n\nTalents to find the next big thing to join\nTech companies considering pitching in the future\nStartup supporters and Blockchain enthusiasts to meet new companies\nBusiness networkers to find partners opportunities\nBusiness leaders to explore disruptive opportunities\nPrivate investors and business angels\, VC’s to find quality opportunities\nStartups seeking seed\, early or mid stage funding: please contact us\nICO’ seeking seeking qualified investors: please contact us for advise\nAccredited and institutional investors: please call us regarding a separate private event\n\nAGENDA\n16:00 Doors Open & Networking\n16:45 Opening Welcome & Intros\n16:50 Fireside Chat: Dr. Urs Aebischer & Dr. Heike Virmond\n17:30 Company Presentations (5 minutes each + 4 minutes Q&A)\n19:30 Networking Reception\, Drinks\, Appetizers\n21:30 Event Closing \nPRESENTING COMPANIES\n6-12 companies of a diverse range of industries and stages including concept stage\, early stage\, growth stage\, including pre-revenue and existing revenue. \nFollowing topics will be covered: \n\nFintech\nBanking\nInsurance\nSmart City\nSmart Food\nChartity\nFundraising\nSocial Media\n\nFIRESIDE CHAT\nDr. Urs Aebischer is a serial digital entrepreneur\, innovator and investor. He believes that Blockchain will have a larger impact on the society than Internet\, since it will radically change the way we currently do business. He has been keynote speaker in Africa\, USA and Brazil where he shares his vision that Blockchain empowers emerging countries creating wealth through a new culture of entrepreneurship. Urs Aebischer has a PhD in physics from ETH\, he started his career as management consultant with St. Gallen Consulting Group before he co-founded his first start-up in Berlin in Internet-Telephony (VoIP) which after a merger became a unicorn in 2000. \nDr. Heike Virmond has 20 years of transformational experience as strategy consultant at Bain\, family business expert and international NLP coach and trainer. She claims life is too precious to stand still. Life is about exploration\, development and growth. Hence\, her passion is to enable individuals and organisations to thrive successfully and sustainably on the path of change and transformation. Heike Virmond has a PhD from Technische Universität Dresden in IP/Patent Management. \nCONTENT OF PRESENTATIONS\n1. Problem addressed and solved \n2. Product and service\, what does it do – what makes it unique \n3. Business model and how money is earned \n4. Target market and market size and go-to-market strategy \n5. Current stage\, roadmap\, milestones\, achiveables \n6. Team and experience \n7. Investment needed and exit strategy \nMORE INFORMATION\nFor questions\, sponsorshop opportunies or requests to present a company\, please contact Swiss Innovation Partners. \n\n\n\nIMPORTANT NOTE\nSwiss Innovation Partners does not provide any investment advise. \n\n\n\n
URL:https://swissinnovations.com/event/blockchain-community-pitch-night-with-international-company-presenstations/
LOCATION:five moods\, Dammstrasse 22\, Zug\, ZG\, 6300\, Switzerland
ORGANIZER;CN="Swiss%20Innovation%20Partners":MAILTO:office@swissinnovations.com
END:VEVENT
END:VCALENDAR