BEGIN:VCALENDAR
VERSION:2.0
PRODID:-//Swiss Innovation Partners AG - ECPv4.9.9//NONSGML v1.0//EN
CALSCALE:GREGORIAN
METHOD:PUBLISH
X-WR-CALNAME:Swiss Innovation Partners AG
X-ORIGINAL-URL:https://swissinnovations.com
X-WR-CALDESC:Events for Swiss Innovation Partners AG
BEGIN:VTIMEZONE
TZID:Europe/Paris
BEGIN:DAYLIGHT
TZOFFSETFROM:+0100
TZOFFSETTO:+0200
TZNAME:CEST
DTSTART:20190331T010000
END:DAYLIGHT
BEGIN:STANDARD
TZOFFSETFROM:+0200
TZOFFSETTO:+0100
TZNAME:CET
DTSTART:20191027T010000
END:STANDARD
END:VTIMEZONE
BEGIN:VEVENT
DTSTART;TZID=Europe/Paris:20190116T180000
DTEND;TZID=Europe/Paris:20190116T210000
DTSTAMP:20260423T180755
CREATED:20190109T095212Z
LAST-MODIFIED:20190109T095546Z
UID:2626-1547661600-1547672400@swissinnovations.com
SUMMARY:Blockchain Apéro and Company Presentation with George Grama on Autonomous Cars
DESCRIPTION:Company Presentation and Business Plan Challenge:\nGeorge Grama\, CEO of Autonomy – Los Angeles – USA\nAutonomy provides tools to connect and interact with autonomous vehicles on an open\, secure and free blockchain network. \nAUTONOMY IS BUILDING THE BLOCKCHAIN CLOUD FOR AUTONOMOUS VEHICLES.\nAutonomous vehicles become reality in a few years and they will start to populate our streets. Big companies including Google are preparing for this quantum leap of mobility. AUTONOMY is a leading pioneer building services for autonomous vehicles and is therefore in a pole position to connect autonomous cars once they start being used in great numbers. \nTo develop such services AUTONOMY has built its own self-driving car which can be programmed to perform tasks. This car is located in Santa Monica – Los Angeles which is also called CRYPTO BEACH\, an emerging startup location of with lots of innovative Blockchain companies. The car is now going to a road show to Korea to demonstrate its ability. \nOn this meetup we will discuss\n– The future of autonomous cars\n– The need of a ecosystem for such cars\n– The vision and mission of AUTONOMY\n– Services offering and revenue model\n– Use of Blockchain and token model \nThe presentation and challenge will be followed by an open discussion and a networking apéro. \nMore information and RSVP:  RSVP\n
URL:https://swissinnovations.com/event/blockchain-apero-and-company-presentation-with-george-grama-on-autonomous-cars/
LOCATION:Swiss Innovation Partners\, Rigistrasse 3\, Zug\, ZG\, 6300\, Switzerland
ORGANIZER;CN="Swiss%20Innovation%20Partners":MAILTO:office@swissinnovations.com
END:VEVENT
END:VCALENDAR