BEGIN:VCALENDAR
VERSION:2.0
PRODID:-//Swiss Innovation Partners AG - ECPv4.9.9//NONSGML v1.0//EN
CALSCALE:GREGORIAN
METHOD:PUBLISH
X-WR-CALNAME:Swiss Innovation Partners AG
X-ORIGINAL-URL:https://swissinnovations.com
X-WR-CALDESC:Events for Swiss Innovation Partners AG
BEGIN:VTIMEZONE
TZID:Europe/Paris
BEGIN:DAYLIGHT
TZOFFSETFROM:+0100
TZOFFSETTO:+0200
TZNAME:CEST
DTSTART:20190331T010000
END:DAYLIGHT
BEGIN:STANDARD
TZOFFSETFROM:+0200
TZOFFSETTO:+0100
TZNAME:CET
DTSTART:20191027T010000
END:STANDARD
END:VTIMEZONE
BEGIN:VEVENT
DTSTART;TZID=Europe/Paris:20190118T160000
DTEND;TZID=Europe/Paris:20190118T220000
DTSTAMP:20260423T181835
CREATED:20181127T214434Z
LAST-MODIFIED:20181207T072426Z
UID:2529-1547827200-1547848800@swissinnovations.com
SUMMARY:5th SWISS INNOVATION International Blockchain Qualified Investor Event
DESCRIPTION:SUMMARY\nJoin us for the 5th SWISS INNOVATION International Blockchain Qualified Investor Event to meet promising international companies. \nOur events are highly recognised by both presenting companies as well as by qualified investors. \nBlockchain will change the world in the next 5 years to the same extend as the Internet changed the world in the last 20 years. We bring this vision to qualified investors in particular HWNI’s\, family offices and institutional investors by presenting them promising companies that participate in the realisation of this vision. \nDr. Urs Aebischer and Dr. Heike Virmond open the event by sharing newest insights regarding blockchain implementation and providing an outlook of what we might expect from the future. \nWe then present 6-10 selected companies with a blockchain related business execution. We invite both national and international companies of different development stages. They show how they plan to disrupt by discussing a specific business case. \n \nBefore the pitching session the companies go through a 2-day workshop and training program in order to achieve high quality of presentations. Each company has exactly 5 minutes followed by 4 minutes of Q&A. \nIf you wish to attend as presenting company\,\nplease send an email to: office@swissinnovations.com\nor call aus to: +41 58 680 9000 \nIf you wish to attend as qualified investor\, please request your personal invitation through the form below: \n\n \nVon Eventbrite\n\nPROGRAM\n16:00 Doors Open & Networking\n16:30 Opening Welcome & Intros\n16:35 Fireside Chat Dr. Urs Aebischer and Dr. Heike Virmond\n17:00 Company Presentations (5 min each + 4 min Q&A)\n19:00 Investor Discussion\n19:30 Networking & Drinks\n20:00 Gala Dinner\n22:00 Event Closing \nPRESENTING COMPANIES\nThe companies come from various countries and of a diverse range of industries and stages including concept stage\, early stage\, growth stage\, including pre-revenue and existing revenue.Following topics will be covered: \n\nFintech\nSupply Chain\nInsurance\nSocial Media\nand more\n\nFIRESIDE CHAT\nDr. Urs Aebischer is a serial digital entrepreneur\, innovator and investor. He believes that Blockchain will have a larger impact on the society than Internet\, since it will radically change the way we currently do business. He has been keynote speaker in Africa\, USA and Brazil where he shares his vision that Blockchain empowers emerging countries creating wealth through a new culture of entrepreneurship. Urs Aebischer has a PhD in physics from ETH\, he started his career as management consultant with St. Gallen Consulting Group before he co-founded his first start-up in Berlin in Internet-Telephony (VoIP) which after a merger became a unicorn in 2000. \nDr. Heike Virmond has 20 years of transformational experience as strategy consultant at Bain\, family business expert and international NLP coach and trainer. She claims life is too precious to stand still. Life is about exploration\, development and growth.Hence\, herpassion is to enable individuals and organisations to thrive successfully and sustainably on the path of change and transformation. Heike Virmond has a PhD from Technische Universität Dresden in IP/Patent Management. \n \nPURPOSE OF THIS EVENT\nBlockchain is going to radically change the way we make business. One of the first sectors to undergo such changes is banking and insurance. It also has a deep impact on the venture capital industry\, how funds are raised and how securities are managed and traded. \nOf particular interest for high net worth individuals and family offices is that it allows to directly and earlier engage in the asset class of Private Equity and Venture Capital\, a class that has to date been mainly covered through investment into funds. Now\, with new blockchain technologies and cryptocurrencies available\, risks can be better diversified and assets can be easier liquidated upon investors request. \nThis opens private investors and family investors the possibility to directly invest into this asset class by creating a new portfolio.The purpose of this event is to bring valuable insights to investors regarding the state of Blockchain and to present interesting companies that show new ways of making business based on blockchain. The event presents investment opportunities without obligation and pressure to invest in any of them. \nAs a summary\, the event offers the investor to deepen his understanding of blockchain and how it is applied and most importantly to stay in the loop of a new technology which is advancing in an incredible speed\, faster than then Internet ever before. The hype of phantasy ICO’s with inexperienced founders having an idea on paper is definitely over. Now we are quickly progressing to sustainability. \nEVENT POLICY\n\nThis is an event for accredited investors to meet other accredited investors.\nWe do not disclose investor information\, unless agreed by investor.\nWe aim to create an atmosphere\, where investors feel safe and comfortable.\nInvestors should have the ability to invest\, but there is no investment obligation.\n\nADMISSION AND COSTS\n\nAccredited investors only\nPer invitation only\nFree of charge to attend\nPlease send us an email or call us to attend\n\nSPONSORS AND PARTNERS\n                    \n \nTESTIMONIALS\nJ. Kob: “It was a great pleasure and honour for me to take part in a perfect organized event from Swiss Innovation Partners yesterday at Parkhotel Zug. Special thanks to Urs for the warm welcome!” (22.11.18) \nM. Ganser: “Great event with Urs and Swiss Innovation Partners. Perspectives\, discussions\, networking and great start-ups/ideas. Well done!” (22.11.18) \nP. Sobotkowski: “Thank you a lot Urs for organising – glad to be again on the most disruptive event for investors in Switzerland. Happy that could help this amazing initiative and brought more fantastic people.” (22.11.18) \nA. Gloor: „I am excited about the high level of quality of promising and divers blockchain use cases as well as their international spread presented at this event. The impressive mix of business experience brought in by the investors completed excellent impression the event made on me“. (11.7.18) \n\n\nABOUT SWISS INNOVATION PARTNERS\nSwiss Innovation Partners is an incubator & accelerator specialized in digital media. We provide coaching and mentoring and most importantly executive management support to early stage and growth companies but also to established companies seeking guidance in business transformation. In addition\, we also incubate and accelerate our own businesses. \nWith 20 years of entrepreneurial experience including scaling up businesses to $100 million revenues we emphasise product/market fit as a base for strategic decisions\, business planning\, product development\, go to market and scale-up. \nWe have strong experience in blockchain and cryptocurrencies\, supporting companies to conduct a sustainable ICO/STO. As part of these activities we connect innovative companies with leading edge technologies to family offices and institutional investors for alternative investment considerations. \nSwiss Innovation Partners also provides support for company formation in Zug including provisioning of corporate domicile and office space. \n \n\n\n\nIMPORTANT NOTE\nSwiss Innovation Partners does not provide any investment advise. \nABOUT ZUG – CRYPTO VALLEY – SWITZERLAND\nIn 2017\, 6 of the 10 biggest ICO’s happend in Zug. This is when Zug became worldwide known as Crypto Valley for its friendly authorities and fabourable regulatory envrionment. Over decades Zug has been an attractive location for international companies for its low tax regime and its promimity to the airport (from Zug train station to boarding gate in as little as 1 hour is feasable). \n \nMORE INFORMATION\nFor questions\, sponsorshop opportunies\, for requests to attend or requests to present a company: \nSwiss Innovation Partners AG\noffice@swissinnovations.com\n+41 58 680 9000 \n \n\n\n\n\n\n\n\n\n
URL:https://swissinnovations.com/event/5th-swiss-innovation-international-blockchain-qualified-investor-event/
ATTACH;FMTTYPE=image/jpeg:https://swissinnovations.com/wp-content/uploads/2018/11/SIP_event_qualified_investors_cover.jpg
ORGANIZER;CN="Swiss%20Innovation%20Partners":MAILTO:office@swissinnovations.com
END:VEVENT
END:VCALENDAR