BEGIN:VCALENDAR
VERSION:2.0
PRODID:-//Swiss Innovation Partners AG - ECPv4.9.9//NONSGML v1.0//EN
CALSCALE:GREGORIAN
METHOD:PUBLISH
X-WR-CALNAME:Swiss Innovation Partners AG
X-ORIGINAL-URL:https://swissinnovations.com
X-WR-CALDESC:Events for Swiss Innovation Partners AG
BEGIN:VTIMEZONE
TZID:Europe/Paris
BEGIN:DAYLIGHT
TZOFFSETFROM:+0100
TZOFFSETTO:+0200
TZNAME:CEST
DTSTART:20190331T010000
END:DAYLIGHT
BEGIN:STANDARD
TZOFFSETFROM:+0200
TZOFFSETTO:+0100
TZNAME:CET
DTSTART:20191027T010000
END:STANDARD
END:VTIMEZONE
BEGIN:VEVENT
DTSTART;TZID=Europe/Paris:20190117T160000
DTEND;TZID=Europe/Paris:20190117T220000
DTSTAMP:20260423T164433
CREATED:20181127T134107Z
LAST-MODIFIED:20181207T071830Z
UID:2522-1547740800-1547762400@swissinnovations.com
SUMMARY:5th SWISS INNOVATION International Blockchain Community Pitch Night
DESCRIPTION:SUMMARY\nJoin us for the 5th SWISS INNOVATION International Blockchain Community Pitch Night to meet promising international companies. \nOur last events have been highly recognised by both presenting companies as well as the audience of entrepreneurs\, business leaders and investor. \nAt the current event Dr. Urs Aebischer and Dr. Heike Virmond first share newest insights regarding blockchain implementation and provide an outlook of what we might expect from the future. The fireside chat is followed by the presentation of 8-10 international companies on how they plan to disrupt by discussing a specific business case. A Networking Reception with wine\, beer\, soft drinks and apéro riche allow for enough time to connect with like minded people. \nADMISSION\nThis is a public event. Everybody is welcome to attend. Please register with the form below. \n\n \nVon Eventbrite\n\n\n\n\nPURPOSE OF THIS EVENT\nBlockchain is going to radically change the way we make business. One of the first sectors to undergo such changes is banking and insurance. It also has a deep impact on the venture capital industry\, how funds are raised and how securities are managed and traded. \nWe would like to provide any person independent whether novice or expert valuable insights into blockchain driven industry advances and what kind of approaches are are made by different companies. This can create innovative impulses to other industry players. \n\n\n\n\n\n\nBut most importantly the events provides an opportunity to stay in the loop of a new technology which is advancing in an incredible speed\, faster than then Internet ever before. The hype of phantasy ICO’s with inexperienced founders having an idea on paper is definitely over. Now we are quickly progressing to sustainability. \n\n\n\nWHO SHOULD ATTEND\nEntrepreneurs\, business leaders\, advisors\, investors from all areas of tech interested in start-up\, scale-up\, disruption\, business transformation\, blockchain\, cryptocurrencies and more\, in particular \n\nTalents to find the next big thing to join\nTech companies considering pitching in the future\nStartup supporters and Blockchain enthusiasts to meet new companies\nBusiness networkers to find partners opportunities\nBusiness leaders to explore disruptive opportunities\nPrivate investors and business angels\, VC’s to find quality opportunities\nStartups seeking seed\, early or mid stage funding: please contact us\nICO’ seeking seeking qualified investors: please contact us for advise\nAccredited and institutional investors: please call us regarding a separate private event\n\nAGENDA\n16:00 Doors Open & Networking\n16:45 Opening Welcome & Intros\n16:50 Fireside Chat: Dr. Urs Aebischer & Dr. Heike Virmond\n17:30 Company Presentations (5 minutes each + 4 minutes Q&A)\n19:30 Networking Reception\, Drinks\, Appetizers\n22:00 Event Closing \nPRESENTING COMPANIES\n6-12 companies of a diverse range of industries and stages including concept stage\, early stage\, growth stage\, including pre-revenue and existing revenue. \nFollowing topics will be covered: \n\nFintech\nSupply Chain\nInsurance\nSocial Media\nand more …\n\nif you would like to pitch your company please apply through: https://bit.ly/2zJ91X9 \n \nCONTENT OF PRESENTATIONS\n1. Problem addressed and solved \n2. Product and service\, what does it do – what makes it unique \n3. Business model and how money is earned \n4. Target market and market size and go-to-market strategy \n5. Current stage\, roadmap\, milestones\, achiveables \n6. Team and experience \n7. Investment needed and exit strategy \nFIRESIDE CHAT\nDr. Urs Aebischer is a serial digital entrepreneur\, innovator and investor. He believes that Blockchain will have a larger impact on the society than Internet\, since it will radically change the way we currently do business. He has been keynote speaker in Africa\, USA and Brazil where he shares his vision that Blockchain empowers emerging countries creating wealth through a new culture of entrepreneurship. Urs Aebischer has a PhD in physics from ETH\, he started his career as management consultant with St. Gallen Consulting Group before he co-founded his first start-up in Berlin in Internet-Telephony (VoIP) which after a merger became a unicorn in 2000. \nDr. Heike Virmond has 20 years of transformational experience as strategy consultant at Bain\, family business expert and international NLP coach and trainer. She claims life is too precious to stand still. Life is about exploration\, development and growth. Hence\, her passion is to enable individuals and organisations to thrive successfully and sustainably on the path of change and transformation. Heike Virmond has a PhD from Technische Universität Dresden in IP/Patent Management. \n \nNETWORKING RECEPTION\n \nSPONSORS\n            \nPITCHING OPPORTUNITY\nIf you would like to pitch your company please apply through:  https://bit.ly/2zJ91X9 \nMORE INFORMATION\nFor questions or sponsorshop opportunies: \nSwiss Innovation Partners AG \n+41 58 680 9000    or    office@swissinnovations.com \n \n\n\n\n
URL:https://swissinnovations.com/event/5th-swiss-innovation-international-blockchain-community-pitch-night/
LOCATION:five moods\, Dammstrasse 22\, Zug\, ZG\, 6300\, Switzerland
ATTACH;FMTTYPE=image/jpeg:https://swissinnovations.com/wp-content/uploads/2018/11/SIP_events_community.jpg
ORGANIZER;CN="Swiss%20Innovation%20Partners":MAILTO:office@swissinnovations.com
END:VEVENT
END:VCALENDAR